BEGIN:VCALENDAR
VERSION:2.0
PRODID:-//ChamberMaster//Event Calendar 2.0//EN
METHOD:PUBLISH
X-PUBLISHED-TTL:P3D
REFRESH-INTERVAL:P3D
CALSCALE:GREGORIAN
BEGIN:VEVENT
DTSTART:20230712T140000Z
DTEND:20230712T220000Z
X-MICROSOFT-CDO-ALLDAYEVENT:FALSE
SUMMARY:Machete Jewelry Pop-Up Shop at Daytrip Society
DESCRIPTION:Mark your calendar to see a very special collection of jewelry\, sunglasses\, and hair accessories curated by the owner of MACHETE just for Daytrip Society! \n\n\n\nBuild your own earring set with charms\, have your MACHETE watch band resized and check out brand new designs!
X-ALT-DESC;FMTTYPE=text/html:Mark your calendar to see a very special collection of jewelry\, sunglasses\, and hair accessories curated by the owner of MACHETE just for Daytrip Society!&nbsp\;<br />\n<br />\nBuild your own earring set with charms\, have your MACHETE watch band resized and check out brand new designs!&nbsp\;
LOCATION:Daytrip Society 4 Dock Square Kennebunkport\, ME 04046
UID:e.1923.21502
SEQUENCE:3
DTSTAMP:20260422T063657Z
URL:https://chamber.gokennebunks.com/events/details/machete-jewelry-pop-up-shop-at-daytrip-society-21502
END:VEVENT

END:VCALENDAR
