BEGIN:VCALENDAR
VERSION:2.0
PRODID:-//ChamberMaster//Event Calendar 2.0//EN
METHOD:PUBLISH
X-PUBLISHED-TTL:P3D
REFRESH-INTERVAL:P3D
CALSCALE:GREGORIAN
BEGIN:VEVENT
DTSTART:20231006T233000Z
DTEND:20231007T013000Z
X-MICROSOFT-CDO-ALLDAYEVENT:FALSE
SUMMARY:Love\, Loss\, and What I Wore
DESCRIPTION:Love\, Loss and What I Wore: by Nora Ephron & Delia Ephron. A play of monologues and ensemble pieces about women\, clothes and memory covering all the important subjects mothers\, prom dresses\, mothers\, buying bras\, mothers\, hating purses and why we only wear black. Based on the bestselling book by Ilene Beckerman. "Funny\, compelling Brought down the house " NY Times
X-ALT-DESC;FMTTYPE=text/html:Love\, Loss and What I Wore: by Nora Ephron &amp\; Delia Ephron. A play of monologues and ensemble pieces about women\, clothes and memory covering all the important subjects&mdash\;mothers\, prom dresses\, mothers\, buying bras\, mothers\, hating purses and why we only wear black. Based on the bestselling book by Ilene Beckerman. &ldquo\;Funny\, compelling&hellip\;Brought down the house&hellip\;&rdquo\; NY Times
LOCATION:205 Main Street Biddeford\, ME 04005
UID:e.1923.22429
SEQUENCE:3
DTSTAMP:20260422T005150Z
URL:https://chamber.gokennebunks.com/events/details/love-loss-and-what-i-wore-10-06-2023-22429
END:VEVENT

END:VCALENDAR
