BEGIN:VCALENDAR
VERSION:2.0
PRODID:-//ChamberMaster//Event Calendar 2.0//EN
METHOD:PUBLISH
X-PUBLISHED-TTL:P3D
REFRESH-INTERVAL:P3D
CALSCALE:GREGORIAN
BEGIN:VEVENT
DTSTART:20250710T143000Z
DTEND:20250710T153000Z
X-MICROSOFT-CDO-ALLDAYEVENT:FALSE
SUMMARY:LOCAL AUTHOR STEVE HREHOVCIK
DESCRIPTION:Thursday\, July 10 from 10:30-11:30 AM. Author Steve Hrehovcik. Maine author Steve Hrehovcik will be here to read his book "The Rabbit Said to the Bird". Told in playful verse and brought to life with vivid illustrations\, this enchanting story invites readers to imagine what animals might discover not only about themselves\, but maybe even about someone they know. Copies of the book will be available for sale and signing. The Louis T. Graves Memorial Public Library is located at 18 Maine Street\, Kennebunkport. For further information\, please call 207-967-2778 and ask for the Junior Room or visit www.graveslibrary.org.
X-ALT-DESC;FMTTYPE=text/html:<span style="font-family:arial\,sans-serif">Thursday\, July 10 from 10:30-11:30 AM. <strong>Author Steve Hrehovcik</strong>. Maine author Steve Hrehovcik will be here to read his book &ldquo\;The Rabbit Said to the Bird&rdquo\;. Told in playful verse and brought to life with vivid illustrations\, this enchanting story invites readers to imagine what animals might discover&mdash\;not only about themselves\, but maybe even about someone they know. Copies of the book will be available for sale and signing. The Louis T. Graves Memorial Public Library is located at 18 Maine Street\, Kennebunkport. For further information\, please call 207-967-2778 and ask for the Junior Room or visit www.graveslibrary.org.</span>
LOCATION:The Louis T. Graves Memorial Public Library is located at 18 Maine Street\, Kennebunkport. For further information\, please call 207-967-2778 and ask for the Junior Room or visit www.graveslibrary.org.
UID:e.1923.37531
SEQUENCE:3
DTSTAMP:20260421T074333Z
URL:https://chamber.gokennebunks.com/events/details/local-author-steve-hrehovcik-37531
END:VEVENT

END:VCALENDAR
