BEGIN:VCALENDAR
VERSION:2.0
PRODID:-//ChamberMaster//Event Calendar 2.0//EN
METHOD:PUBLISH
X-PUBLISHED-TTL:P3D
REFRESH-INTERVAL:P3D
CALSCALE:GREGORIAN
BEGIN:VEVENT
DTSTART:20240911T213000Z
DTEND:20240911T223000Z
X-MICROSOFT-CDO-ALLDAYEVENT:FALSE
SUMMARY:LOCAL AUTHOR GEORGE LONGSTRETH
DESCRIPTION:Wednesday\, September 11 at 5:30 PM. Local Author George Longstreth. Local author George Longstreth is joining us to discuss his book "Shot Down Over The Soviet Union\, A Strategic Air Command Finally Revealed" inspired by a true story. Copies of the book will be available for sale and signing. The Louis T. Graves Memorial Public Library is located at 18 Maine Street\, Kennebunkport. For further information\, please call 967-2778 or visit www.graveslibrary.org.
X-ALT-DESC;FMTTYPE=text/html:<span style="font-family:arial\,sans-serif">Wednesday\, September 11 at 5:30 PM. <strong>Local Author George Longstreth</strong>. Local author George Longstreth is joining us to discuss his book &ldquo\;Shot Down Over The Soviet Union\, A Strategic Air Command Finally Revealed&rdquo\; inspired by a true story. Copies of the book will be available for sale and signing. The Louis T. Graves Memorial Public Library is located at 18 Maine Street\, Kennebunkport. For further information\, please call 967-2778 or visit www.graveslibrary.org.</span>
LOCATION:The Louis T. Graves Memorial Public Library is located at 18 Maine Street\, Kennebunkport. For further information\, please call 967-2778 or visit www.graveslibrary.org.
UID:e.1923.29877
SEQUENCE:3
DTSTAMP:20260421T095920Z
URL:https://chamber.gokennebunks.com/events/details/local-author-george-longstreth-29877
END:VEVENT

END:VCALENDAR
