BEGIN:VCALENDAR
VERSION:2.0
PRODID:-//ChamberMaster//Event Calendar 2.0//EN
METHOD:PUBLISH
X-PUBLISHED-TTL:P3D
REFRESH-INTERVAL:P3D
CALSCALE:GREGORIAN
BEGIN:VEVENT
DTSTART:20240612T220000Z
DTEND:20240612T230000Z
X-MICROSOFT-CDO-ALLDAYEVENT:FALSE
SUMMARY:LOCAL AUTHOR FREDERICK BOYLE
DESCRIPTION:Wednesday\, June 12 at 6:00 PM. Local Author Frederick Boyle. Genealogy expert and Maine resident Frederick Boyle will be at the Graves Library on Wednesday\, June 12\, at 6:00 PM to talk about his new book  "Early Families of Kennebunkport\, Maine". He was a retired teacher after thirty years at Lexington (MA) High School\, where he was designated a master teacher. In recent years\, he returned to teaching classes at York Senior College both in the classroom and on Zoom. In 1985\, he took what had been a hobby to a professional level\, becoming a genealogist with a wide spectrum of clients. The Louis T. Graves Memorial Public Library is located at 18 Maine Street\, Kennebunkport. For further information\, please call 967-2778 or visit our website at www.graveslibrary.org.
X-ALT-DESC;FMTTYPE=text/html:<span style="font-family:arial\,sans-serif"><span style="font-size:10.5pt">Wednesday\, June 12 at 6:00 PM. <strong>Local Author Frederick Boyle</strong>. Genealogy expert and Maine resident Frederick Boyle will be at the Graves Library on Wednesday\, June 12\, at 6:00 PM to talk about his new book&nbsp\; &ldquo\;Early Families of Kennebunkport\, Maine&rdquo\;. He was a retired teacher after thirty years at Lexington (MA) High School\, where he was designated a master teacher. In recent years\, he returned to teaching classes at York Senior College both in the classroom and on Zoom. In 1985\, he took what had been a hobby to a professional level\, becoming a genealogist with a wide spectrum of clients. The Louis T. Graves Memorial Public Library is located at 18 Maine Street\, Kennebunkport. For further information\, please call 967-2778 or visit our website at www.graveslibrary.org.</span></span>
LOCATION:18 Maine Street\, Kennebunkport
UID:e.1923.25276
SEQUENCE:3
DTSTAMP:20260421T135939Z
URL:https://chamber.gokennebunks.com/events/details/local-author-frederick-boyle-25276
END:VEVENT

END:VCALENDAR
