BEGIN:VCALENDAR
VERSION:2.0
PRODID:-//ChamberMaster//Event Calendar 2.0//EN
METHOD:PUBLISH
X-PUBLISHED-TTL:P3D
REFRESH-INTERVAL:P3D
CALSCALE:GREGORIAN
BEGIN:VEVENT
DTSTART:20250605T220000Z
DTEND:20250605T230000Z
X-MICROSOFT-CDO-ALLDAYEVENT:FALSE
SUMMARY:LOCAL AUTHOR ALBERT WAITT
DESCRIPTION:We are so thrilled to welcome back local author and friend of Graves Library\, Albert Waitt\, on Thursday\, June 5\, at 6:00 PM.  Mr. Waitt will read from his new book\, "Springbrookville"\, the third in his LT Nichols mystery series. Copies of the book will be for sale and signing after the reading. The first in the series\, "The Ruins of Woodman's Village"\, was published in 2023\, followed by "Flood Tide" in 2024. Waitt is a graduate of Bates College and the Creative Writing Program at Boston University. His short fiction has appeared in The Literary Review\, Third Coast\, The Beloit Fiction Journal\, Words and Images\, and other publications. His first novel\, "Summer to Fall" was published in 2013 by Barrel Fire Press. The Louis T. Graves Memorial Public Library is located at 18 Maine Street\, Kennebunkport. For further information\, please call 207-967-2778 or visit our website at www.graveslibrary.org.
X-ALT-DESC;FMTTYPE=text/html:<span style="font-family:arial\,sans-serif">We are so thrilled to welcome back local author and friend of Graves Library\, Albert Waitt\, on Thursday\, June 5\, at 6:00 PM.&nbsp\; Mr. Waitt will read from his new book\, &ldquo\;Springbrookville&rdquo\;\, the third in his LT Nichols mystery series.&nbsp\;Copies of the book will be for sale and signing after the reading. The first in the series\, &ldquo\;The Ruins of Woodman&#39\;s Village&rdquo\;\, was published in 2023\, followed by &ldquo\;Flood Tide&rdquo\; in 2024.&nbsp\;Waitt is a graduate of Bates College and the Creative Writing Program at Boston University.&nbsp\;His short fiction has appeared in The Literary Review\, Third Coast\, The Beloit Fiction Journal\, Words and Images\, and other publications. His first novel\, &ldquo\;Summer to Fall&rdquo\; was published in 2013 by Barrel Fire Press. The Louis T. Graves Memorial Public Library is located at 18 Maine&nbsp\;</span><span style="font-family:arial\,sans-serif">Street\, Kennebunkport. For further information\, please call 207-967-2778 or visit our website at www.graveslibrary.org.</span>
LOCATION:The Louis T. Graves Memorial Public Library is located at 18 Maine Street\, Kennebunkport. For further information\, please call 207-967-2778 or visit our website at www.graveslibrary.org.
UID:e.1923.34942
SEQUENCE:3
DTSTAMP:20260421T062159Z
URL:https://chamber.gokennebunks.com/events/details/local-author-albert-waitt-06-05-2025-34942
END:VEVENT

END:VCALENDAR
