BEGIN:VCALENDAR
VERSION:2.0
PRODID:-//ChamberMaster//Event Calendar 2.0//EN
METHOD:PUBLISH
X-PUBLISHED-TTL:P3D
REFRESH-INTERVAL:P3D
CALSCALE:GREGORIAN
BEGIN:VEVENT
DTSTART:20230901T220000Z
DTEND:20230902T003000Z
X-MICROSOFT-CDO-ALLDAYEVENT:FALSE
SUMMARY:Lobster on the Cove | Classic Maine Lobster Bake
DESCRIPTION:J?oin us for an unforgettable summer evening at The Lodge on the Cove. Maine lobster bakes are the highlight of our summers and we're excited to share that with you. Immerse yourself in a quintessential New England experience as we celebrate the rich flavors of the sea.
X-ALT-DESC;FMTTYPE=text/html:<span style="color:rgb(111\, 114\, 135)\; font-family:neue plak\,-apple-system\,blinkmacsystemfont\,roboto\,helvetica neue\,helvetica\,tahoma\,arial\,sans-serif\; font-size:16px">J?oin us for an unforgettable summer evening at The Lodge on the Cove. Maine lobster bakes are the highlight of our summers and we&#39\;re excited to share that with you. Immerse yourself in a quintessential New England experience as we celebrate the rich flavors of the sea.</span>
LOCATION:Lodge on the Cove 29 S Main St Kennebunkport\, Maine 04046
UID:e.1923.20870
SEQUENCE:3
DTSTAMP:20260422T021513Z
URL:https://chamber.gokennebunks.com/events/details/lobster-on-the-cove-classic-maine-lobster-bake-09-01-2023-20870
END:VEVENT

END:VCALENDAR
