BEGIN:VCALENDAR
VERSION:2.0
PRODID:-//ChamberMaster//Event Calendar 2.0//EN
METHOD:PUBLISH
X-PUBLISHED-TTL:P3D
REFRESH-INTERVAL:P3D
CALSCALE:GREGORIAN
BEGIN:VEVENT
DTSTART:20190615T200000Z
DTEND:20190615T230000Z
X-MICROSOFT-CDO-ALLDAYEVENT:FALSE
SUMMARY:Lobster Bake
DESCRIPTION:Think red-and-white tablecloths\, lobster\, corn and blueberry pie\, all eaten along our working waterfront. Fun for the whole family!
X-ALT-DESC;FMTTYPE=text/html:Think red-and-white tablecloths\, lobster\, corn and blueberry pie\, all eaten along our working waterfront. Fun for the whole family!
LOCATION:Pilot House
UID:e.1923.13107
SEQUENCE:3
DTSTAMP:20260424T194323Z
URL:https://chamber.gokennebunks.com/events/details/lobster-bake-13107
END:VEVENT

END:VCALENDAR
