BEGIN:VCALENDAR
VERSION:2.0
PRODID:-//ChamberMaster//Event Calendar 2.0//EN
METHOD:PUBLISH
X-PUBLISHED-TTL:P3D
REFRESH-INTERVAL:P3D
CALSCALE:GREGORIAN
BEGIN:VEVENT
DTSTART:20230510T080000Z
DTEND:20230510T083000Z
X-MICROSOFT-CDO-ALLDAYEVENT:FALSE
SUMMARY:loanDepot.com\, LLC: Ribbon Cutting Celebration!
DESCRIPTION:Join us on Wednesday\, 5/10 at 4pm as we celebrate the grand opening of loanDepot.com LLC with a ribbon cutting celebration!
X-ALT-DESC;FMTTYPE=text/html:Join us on Wednesday\, 5/10 at 4pm as we celebrate the grand opening of loanDepot.com LLC with a ribbon cutting celebration!
LOCATION:68 Main Street\, Suite H2\, Kennebunk
UID:e.1923.19186
SEQUENCE:3
DTSTAMP:20260424T101321Z
URL:https://chamber.gokennebunks.com/events/details/loandepot-com-llc-ribbon-cutting-celebration-19186
END:VEVENT

END:VCALENDAR
