BEGIN:VCALENDAR
VERSION:2.0
PRODID:-//ChamberMaster//Event Calendar 2.0//EN
METHOD:PUBLISH
X-PUBLISHED-TTL:P3D
REFRESH-INTERVAL:P3D
CALSCALE:GREGORIAN
BEGIN:VEVENT
DTSTART:20180811T140000Z
DTEND:20180830T210000Z
X-MICROSOFT-CDO-ALLDAYEVENT:FALSE
SUMMARY:Liz Hoag\, Trip Park\, and Janis Sanders Show
DESCRIPTION:Art Show for Liz Hoag\, Trip Park\, and Janis Sanders Artist Reception Saturday\, August 11th from 5 PM to 7 PM
X-ALT-DESC;FMTTYPE=text/html:Art Show for Liz Hoag\, Trip Park\, and Janis Sanders Artist Reception Saturday\, August 11th from 5 PM to 7 PM
LOCATION:Shows at Maine Art Hill
UID:e.1923.9789
SEQUENCE:3
DTSTAMP:20260425T133105Z
URL:https://chamber.gokennebunks.com/events/details/liz-hoag-trip-park-and-janis-sanders-show-9789
END:VEVENT

END:VCALENDAR
