BEGIN:VCALENDAR
VERSION:2.0
PRODID:-//ChamberMaster//Event Calendar 2.0//EN
METHOD:PUBLISH
X-PUBLISHED-TTL:P3D
REFRESH-INTERVAL:P3D
CALSCALE:GREGORIAN
BEGIN:VEVENT
DTSTART:20190802T000000Z
DTEND:20190802T023000Z
X-MICROSOFT-CDO-ALLDAYEVENT:FALSE
SUMMARY:Livingston Taylor
DESCRIPTION:Livingston Taylor is back with more stories and tunes to engage and entertain our Vinegar Hill audience! Born in Boston MA\, Livingston Taylor picked up his first guitar at the age of 13\, beginning a 40-year career that has encompassed performance\, songwriting and teaching. On January 18\, 2017\, Boston Mayor Marty Walsh and Massachusetts Governor Charlie Baker declared the day to be Livingston Taylor Day in Boston. He was recognized for his 50-year music career\, as well as being a long-time professor at Berklee College of Music.
X-ALT-DESC;FMTTYPE=text/html:Livingston Taylor is back with more stories and tunes to engage and entertain our Vinegar Hill audience! Born in Boston MA\, Livingston Taylor picked up his first guitar at the age of 13\, beginning a 40-year career that has encompassed performance\, songwriting and teaching. On January 18\, 2017\, Boston Mayor Marty Walsh and Massachusetts Governor Charlie Baker declared the day to be Livingston Taylor Day in Boston. He was recognized for his 50-year music career\, as well as being a long-time professor at Berklee College of Music.
LOCATION:Vinegar Hill Music Theatre 53 Old Post Rd Arundel\, ME 04046
UID:e.1923.12844
SEQUENCE:3
DTSTAMP:20260424T165552Z
URL:https://chamber.gokennebunks.com/events/details/livingston-taylor-08-01-2019-12844
END:VEVENT

END:VCALENDAR
