BEGIN:VCALENDAR
VERSION:2.0
PRODID:-//ChamberMaster//Event Calendar 2.0//EN
METHOD:PUBLISH
X-PUBLISHED-TTL:P3D
REFRESH-INTERVAL:P3D
CALSCALE:GREGORIAN
BEGIN:VEVENT
DTSTART:20180721T230000Z
DTEND:20180722T000000Z
X-MICROSOFT-CDO-ALLDAYEVENT:FALSE
SUMMARY:Living in the 1960s: A Singing History Concert
DESCRIPTION:We tend to think of the 1960s as a free-wheeling good time\, but much of the decade was anything but. National traumas like the war in Vietnam\, the battle for Civil Rights at home\, and dissatisfaction with government came to a head in the tumultuous year of 1968.\n\nHaving lived through that time\, and with the benefit of hindsight\, Monica Grabin will present songs which shine some light on the era\, along with stories of her own experiences. And although the times were difficult\, there are a lot of inspiring and hopeful songs too\, which helped us all get through Living in the Sixties.
X-ALT-DESC;FMTTYPE=text/html:<p>We tend to think of the 1960s as a free-wheeling good time\, but much of the decade was anything but. National traumas like the war in Vietnam\, the battle for Civil Rights at home\, and dissatisfaction with government came to a head in the tumultuous year of 1968.</p>\n\n<p>Having lived through that time\, and with the benefit of hindsight\, Monica Grabin will present songs which shine some light on the era\, along with stories of her own experiences. And although the times were difficult\, there are a lot of inspiring and hopeful songs too\, which helped us all get through Living in the Sixties.</p>\n
LOCATION:Brick Store Museum 117 Main Street Kennebunk\, Maine\, 04043
UID:e.1923.9957
SEQUENCE:3
DTSTAMP:20260425T143736Z
URL:https://chamber.gokennebunks.com/events/details/living-in-the-1960s-a-singing-history-concert-9957
END:VEVENT

END:VCALENDAR
