BEGIN:VCALENDAR
VERSION:2.0
PRODID:-//ChamberMaster//Event Calendar 2.0//EN
METHOD:PUBLISH
X-PUBLISHED-TTL:P3D
REFRESH-INTERVAL:P3D
CALSCALE:GREGORIAN
BEGIN:VEVENT
DTSTART:20250615T170000Z
DTEND:20250722T200000Z
X-MICROSOFT-CDO-ALLDAYEVENT:FALSE
SUMMARY:Live Music: Tom Gadbois
DESCRIPTION:Let Tom Gadbois' soulful rhythms be the soundtrack to your evening\, framed by shimmering waterfront views and a lineup of fresh drinks and bites.\n\n\n\nCatch Tom this summer at the Nonantum on the following days:\n\n6/15 12pm-3pm\n\n7/17 1pm-4pm\n\n7/22 1pm-4pm\n\n8/31 1pm-4pm
X-ALT-DESC;FMTTYPE=text/html:<span style="color:rgb(0\, 0\, 0)\; font-family:verdana\,arial\,helvetica\,sans-serif\; font-size:12px">Let Tom Gadbois&rsquo\; soulful rhythms be the soundtrack to your evening\, framed by shimmering waterfront views and a lineup of fresh drinks and bites.<br />\n<br />\nCatch Tom this summer at the Nonantum on the following days:<br />\n6/15 12pm-3pm<br />\n7/17 1pm-4pm<br />\n7/22&nbsp\;1pm-4pm<br />\n8/31&nbsp\;1pm-4pm</span>
LOCATION:The Nonantum Resort 95 Ocean Ave\, Kennebunkport\, ME 04046
UID:e.1923.35922
SEQUENCE:3
DTSTAMP:20260421T061732Z
URL:https://chamber.gokennebunks.com/events/details/live-music-tom-gadbois-35922
END:VEVENT

END:VCALENDAR
