BEGIN:VCALENDAR
VERSION:2.0
PRODID:-//ChamberMaster//Event Calendar 2.0//EN
METHOD:PUBLISH
X-PUBLISHED-TTL:P3D
REFRESH-INTERVAL:P3D
CALSCALE:GREGORIAN
BEGIN:VEVENT
DTSTART:20250613T133000Z
DTEND:20250613T144500Z
X-MICROSOFT-CDO-ALLDAYEVENT:FALSE
SUMMARY:live music restore
DESCRIPTION:slow down\, soften and reconnect in this deeply relaxing restorative yoga experience accompanied by the soothing sounds of live music. this gentle\, low-impact class is designed to help you release tension\, quiet your mind\, and melt into stillness\, supported by props and long-held poses.\n\n\n\nas you settle into each posture\, you'll be serenaded by calming\, live handpan music from local musician\, bradley alexander\, creating an immersive\, peaceful atmosphere to help you fully let go and restore.\n\n\n\nperfect for all levels whether you're winding down from a busy week or simply craving a moment of calm.\n\n\n\ncome as you are\, leave lighter.\n\n\n\nsign up today using this link: thedailysweatkennebunk.com
X-ALT-DESC;FMTTYPE=text/html:slow down\, soften and reconnect in this deeply relaxing restorative yoga experience accompanied by the soothing sounds of live music. this gentle\, low-impact class is designed to help you release tension\, quiet your mind\, and melt into stillness\, supported by props and long-held poses.<br />\n<br />\nas you settle into each posture\, you&#39\;ll be serenaded by calming\, live handpan music from local musician\, bradley alexander\, creating an immersive\, peaceful atmosphere to help you fully let go and restore.<br />\n<br />\nperfect for all levels&mdash\;whether you&#39\;re winding down from a busy week or simply craving a moment of calm.<br />\n<br />\ncome as you are\, leave lighter.<br />\n<br />\nsign up today using this link: thedailysweatkennebunk.com
LOCATION:65 Portland RD\, Kennebunk ME\, 04043
UID:e.1923.34898
SEQUENCE:3
DTSTAMP:20260421T061207Z
URL:https://chamber.gokennebunks.com/events/details/live-music-restore-34898
END:VEVENT

END:VCALENDAR
