BEGIN:VCALENDAR
VERSION:2.0
PRODID:-//ChamberMaster//Event Calendar 2.0//EN
METHOD:PUBLISH
X-PUBLISHED-TTL:P3D
REFRESH-INTERVAL:P3D
CALSCALE:GREGORIAN
BEGIN:VEVENT
DTSTART:20230527T210000Z
DTEND:20230528T000000Z
X-MICROSOFT-CDO-ALLDAYEVENT:FALSE
SUMMARY:Live Music on the Deck at Via Sophia by the Sea feat. Darren Whitney | What the Deck
DESCRIPTION:Come join us on the deck at Via Sophia by the Sea in Kennebunk\, Maine for live music featuring Darren Whitney. Enjoy beautiful waterfront views while listening to the soothing sounds of acoustic guitar and vocals. This event is part of What the Deck\, a celebration of summer happening at several locations in Kennebunk and Kennebunkport. \n\nClick the link below to find out more or visit kptdining.com
X-ALT-DESC;FMTTYPE=text/html:<span style="background-color:rgb(247\, 247\, 248)\; color:rgb(55\, 65\, 81)\; font-family:söhne\,ui-sans-serif\,system-ui\,-apple-system\,segoe ui\,roboto\,ubuntu\,cantarell\,noto sans\,sans-serif\,helvetica neue\,arial\,apple color emoji\,segoe ui emoji\,segoe ui symbol\,noto color emoji\; font-size:16px">Come join us on the deck at Via Sophia by the Sea in Kennebunk\, Maine for live music featuring Darren Whitney. Enjoy beautiful waterfront views while listening to the soothing sounds of acoustic guitar and vocals. This event is part of What the Deck\, a celebration of summer happening at several locations in Kennebunk and Kennebunkport.&nbsp\;<br />\nClick the link below to find out more or visit kptdining.com</span>
LOCATION:Via Sophia by the Sea 27 Western Avenue Kennebunk\, ME 04043
UID:e.1923.19155
SEQUENCE:3
DTSTAMP:20260424T090717Z
URL:https://chamber.gokennebunks.com/events/details/live-music-on-the-deck-at-via-sophia-by-the-sea-feat-darren-whitney-what-the-deck-05-27-2023-19155
END:VEVENT

END:VCALENDAR
