BEGIN:VCALENDAR
VERSION:2.0
PRODID:-//ChamberMaster//Event Calendar 2.0//EN
METHOD:PUBLISH
X-PUBLISHED-TTL:P3D
REFRESH-INTERVAL:P3D
CALSCALE:GREGORIAN
BEGIN:VEVENT
DTSTART:20250609T220000Z
DTEND:20250610T010000Z
X-MICROSOFT-CDO-ALLDAYEVENT:FALSE
SUMMARY:Live Music: Jim O'Neil and the Biddo Honeys
DESCRIPTION:Get ready for a fun night of live music\, good eats\, and riverside vibes with Jim O'Neil & The Biddo Honeys!\n\n\n\nLive at the Nonantum this summer on the following dates:\n\n7/06 6pm-9pm\n\n7/08 6pm-9pm\n\n7/20 6pm-9pm\n\n7/31 6pm-9pm
X-ALT-DESC;FMTTYPE=text/html:<span style="color:rgb(0\, 0\, 0)\; font-family:verdana\,arial\,helvetica\,sans-serif\; font-size:12px">Get ready for a fun night of live music\, good eats\, and riverside vibes with Jim O&#39\;Neil &amp\; The Biddo Honeys!<br />\n<br />\nLive at the Nonantum this summer on the following dates:<br />\n7/06 6pm-9pm<br />\n7/08&nbsp\;6pm-9pm<br />\n7/20&nbsp\;6pm-9pm<br />\n7/31&nbsp\;6pm-9pm</span>
LOCATION:The Nonantum Resort 95 Ocean Ave\, Kennebunkport\, ME 04046
UID:e.1923.35915
SEQUENCE:3
DTSTAMP:20260421T062932Z
URL:https://chamber.gokennebunks.com/events/details/live-music-jim-o-neil-and-the-biddo-honeys-35915
END:VEVENT

END:VCALENDAR
