BEGIN:VCALENDAR
VERSION:2.0
PRODID:-//ChamberMaster//Event Calendar 2.0//EN
METHOD:PUBLISH
X-PUBLISHED-TTL:P3D
REFRESH-INTERVAL:P3D
CALSCALE:GREGORIAN
BEGIN:VEVENT
DTSTART:20250706T170000Z
DTEND:20250817T200000Z
X-MICROSOFT-CDO-ALLDAYEVENT:FALSE
SUMMARY:Live Music: Dan Blakeslee
DESCRIPTION:Soak up the summer spirit with live music by Dan Blakeslee\, river views\, and the best bites and sips in town!\n\n\n\nCatch Dan Blakeslee live this summer at the Nonantum on the following dates:\n\n7/06 1pm-4pm\n\n7/20 1pm-4pm\n\n8/17 1pm-4pm
X-ALT-DESC;FMTTYPE=text/html:<span style="color:rgb(0\, 0\, 0)\; font-family:verdana\,arial\,helvetica\,sans-serif\; font-size:12px">Soak up the summer spirit with live music by Dan Blakeslee\, river views\, and the best bites and sips in town!</span><br />\n<br />\nCatch Dan Blakeslee live this summer at the Nonantum on the following dates:<br />\n7/06 1pm-4pm<br />\n7/20&nbsp\;1pm-4pm<br />\n8/17&nbsp\;1pm-4pm
LOCATION:The Nonantum Resort 95 Ocean Ave\, Kennebunkport\, ME 04046
UID:e.1923.35917
SEQUENCE:3
DTSTAMP:20260421T074247Z
URL:https://chamber.gokennebunks.com/events/details/live-music-dan-blakeslee-35917
END:VEVENT

END:VCALENDAR
