BEGIN:VCALENDAR
VERSION:2.0
PRODID:-//ChamberMaster//Event Calendar 2.0//EN
METHOD:PUBLISH
X-PUBLISHED-TTL:P3D
REFRESH-INTERVAL:P3D
CALSCALE:GREGORIAN
BEGIN:VEVENT
DTSTART:20250710T170000Z
DTEND:20250803T200000Z
X-MICROSOFT-CDO-ALLDAYEVENT:FALSE
SUMMARY:Live Music: Brian Walker
DESCRIPTION:Join us for sun-soaked afternoons with live music by Brian Walker\, waterfront views\, and all your favorite summer flavors!\n\n\n\nBrian Walker will be live at the Nonantum on the following days:\n\n7/10 1pm-4pm\n\n8/03 1pm-4pm
X-ALT-DESC;FMTTYPE=text/html:<p>Join us for sun-soaked afternoons with live music by Brian Walker\, waterfront views\, and all your favorite summer flavors!<br />\n<br />\nBrian Walker will be live at the Nonantum on the following days:<br />\n7/10 1pm-4pm<br />\n8/03 1pm-4pm</p>\n
LOCATION:The Nonantum Resort 95 Ocean Ave\, Kennebunkport\, ME 04046
UID:e.1923.35916
SEQUENCE:3
DTSTAMP:20260421T073251Z
URL:https://chamber.gokennebunks.com/events/details/live-music-brian-walker-35916
END:VEVENT

END:VCALENDAR
