BEGIN:VCALENDAR
VERSION:2.0
PRODID:-//ChamberMaster//Event Calendar 2.0//EN
METHOD:PUBLISH
X-PUBLISHED-TTL:P3D
REFRESH-INTERVAL:P3D
CALSCALE:GREGORIAN
BEGIN:VEVENT
DTSTART:20191025T230000Z
DTEND:20191026T020000Z
X-MICROSOFT-CDO-ALLDAYEVENT:FALSE
SUMMARY:Live Music at The Hall
DESCRIPTION:DANCE TO THE MUSIC OF THE KENNEBUNK RIVER BAND AT HISTORIC ATLANTIC HALL.....OR JUST COME AND LISTEN!
X-ALT-DESC;FMTTYPE=text/html:DANCE TO THE MUSIC OF THE KENNEBUNK RIVER BAND AT HISTORIC ATLANTIC HALL.....OR JUST COME AND LISTEN!<br />\n&nbsp\;
LOCATION:Atlantic Hall 173 Main Street Cape Porpoise\, Maine 0414 In the heart of Cape Porpoise in charming Kennebunkport
UID:e.1923.15487
SEQUENCE:3
DTSTAMP:20260424T140756Z
URL:https://chamber.gokennebunks.com/events/details/live-music-at-the-hall-15487
END:VEVENT

END:VCALENDAR
