BEGIN:VCALENDAR
VERSION:2.0
PRODID:-//ChamberMaster//Event Calendar 2.0//EN
METHOD:PUBLISH
X-PUBLISHED-TTL:P3D
REFRESH-INTERVAL:P3D
CALSCALE:GREGORIAN
BEGIN:VEVENT
DTSTART:20190830T220000Z
DTEND:20190831T010000Z
X-MICROSOFT-CDO-ALLDAYEVENT:FALSE
SUMMARY:Live Music at the Dory
DESCRIPTION:Join us at The Dory for a one-of-a kind dining experience. Just minutes away from downtown\, The Dory offers a laid back atmosphere which makes it an appealing gathering spot for family and friends. The menu features burgers\, homemade milkshakes and fun sides like sweet potato tater tots. Creative cocktails\, Happy Hour specials\, and live local music - while ping pong\, lawn games and retro ice cream bars keep the kids occupied nearby. Come join us for an evening of fun!
X-ALT-DESC;FMTTYPE=text/html:Join us at The Dory for a one-of-a kind dining experience. Just minutes away from downtown\, The Dory offers a laid back atmosphere which makes it an appealing gathering spot for family and friends. The menu features burgers\, homemade milkshakes and fun sides like sweet potato tater tots. Creative cocktails\, Happy Hour specials\, and live local music - while ping pong\, lawn games and retro ice cream bars keep the kids occupied nearby. Come join us for an evening of fun!
LOCATION:
UID:e.1923.13424
SEQUENCE:3
DTSTAMP:20260424T165822Z
URL:https://chamber.gokennebunks.com/events/details/live-music-at-the-dory-08-30-2019-13424
END:VEVENT

END:VCALENDAR
