BEGIN:VCALENDAR
VERSION:2.0
PRODID:-//ChamberMaster//Event Calendar 2.0//EN
METHOD:PUBLISH
X-PUBLISHED-TTL:P3D
REFRESH-INTERVAL:P3D
CALSCALE:GREGORIAN
BEGIN:VEVENT
DTSTART:20250715T170000Z
DTEND:20250812T200000Z
X-MICROSOFT-CDO-ALLDAYEVENT:FALSE
SUMMARY:Live Music: Andrew MacLeod
DESCRIPTION:Spend a summer afternoon with great food\, river views\, and live music by Andrew MacLeod! It's the perfect way to slow down\, sip something refreshing\, and soak up the season.\n\n\n\nCatch Andrew MacLeod at the Nonantum this summer!\n\n7/15 1pm-4pm\n\n7/29 1pm-4pm\n\n8/10 1pm-4pm\n\n8/12 1pm-4pm
X-ALT-DESC;FMTTYPE=text/html:<p>Spend a summer afternoon with great food\, river views\, and live music by Andrew MacLeod! It&rsquo\;s the perfect way to slow down\, sip something refreshing\, and soak up the season.<br />\n<br />\nCatch Andrew MacLeod at the Nonantum this summer!</p>\n\n<p>7/15 1pm-4pm<br />\n7/29&nbsp\;1pm-4pm<br />\n8/10&nbsp\;1pm-4pm<br />\n8/12&nbsp\;1pm-4pm</p>\n
LOCATION:The Nonantum Resort 95 Ocean Ave\, Kennebunkport\, ME 04046
UID:e.1923.35913
SEQUENCE:3
DTSTAMP:20260421T073721Z
URL:https://chamber.gokennebunks.com/events/details/live-music-andrew-macleod-35913
END:VEVENT

END:VCALENDAR
