BEGIN:VCALENDAR
VERSION:2.0
PRODID:-//ChamberMaster//Event Calendar 2.0//EN
METHOD:PUBLISH
X-PUBLISHED-TTL:P3D
REFRESH-INTERVAL:P3D
CALSCALE:GREGORIAN
BEGIN:VEVENT
DTSTART:20190712T223000Z
DTEND:20190712T233000Z
X-MICROSOFT-CDO-ALLDAYEVENT:FALSE
SUMMARY:Live Music
DESCRIPTION:Pianist Michael Levine with special guest Wendy Pedersen (singer) Recommended donation $20. meet & Great\, intermission & refreshments
X-ALT-DESC;FMTTYPE=text/html:Pianist Michael Levine with special guest Wendy Pedersen (singer) Recommended donation $20. meet &amp\; Great\, intermission &amp\; refreshments
LOCATION:United Methodist Church 160 Alfred Rd West Kennebunk
UID:e.1923.13270
SEQUENCE:3
DTSTAMP:20260424T182603Z
URL:https://chamber.gokennebunks.com/events/details/live-music-13270
END:VEVENT

END:VCALENDAR
