BEGIN:VCALENDAR
VERSION:2.0
PRODID:-//ChamberMaster//Event Calendar 2.0//EN
METHOD:PUBLISH
X-PUBLISHED-TTL:P3D
REFRESH-INTERVAL:P3D
CALSCALE:GREGORIAN
BEGIN:VEVENT
DTSTART:20180715T213000Z
DTEND:20180716T003000Z
X-MICROSOFT-CDO-ALLDAYEVENT:FALSE
SUMMARY:LIVE JAZZ AT PEARL SUNDAY 7.15.18
DESCRIPTION:Come Join us for dinner and entertainment by Jim and Peter- a beautiful jazz duo on Bass and Guitar. Music is go from 5:30-8:30\, and dinner starts at 4:30. Come early and get a seat inside! Happy Hour is from 4:30-5:30 as well- best deals in town for oysters!
X-ALT-DESC;FMTTYPE=text/html:Come Join us for dinner and entertainment by Jim and Peter- a beautiful jazz duo on Bass and Guitar. Music is go from 5:30-8:30\, and dinner starts at 4:30. Come early and get a seat inside! Happy Hour is from 4:30-5:30 as well- best deals in town for oysters!
LOCATION:27 Western Ave\, Lower Village\, Kennebunk
UID:e.1923.9954
SEQUENCE:3
DTSTAMP:20260425T133105Z
URL:https://chamber.gokennebunks.com/events/details/live-jazz-at-pearl-sunday-7-15-18-9954
END:VEVENT

END:VCALENDAR
