BEGIN:VCALENDAR
VERSION:2.0
PRODID:-//ChamberMaster//Event Calendar 2.0//EN
METHOD:PUBLISH
X-PUBLISHED-TTL:P3D
REFRESH-INTERVAL:P3D
CALSCALE:GREGORIAN
BEGIN:VEVENT
DTSTART:20230815T203000Z
DTEND:20230815T233000Z
X-MICROSOFT-CDO-ALLDAYEVENT:FALSE
SUMMARY:Live at the Nonantum with Lisa Mills & Don Wessels
DESCRIPTION:Join us for live entertainment with Lisa Mills and Don Wessels. Upbeat and fun\, this duo is the perfect pairing for dinner and drinks at the waterfront. Free and open to the public. We can't wait to see you!
X-ALT-DESC;FMTTYPE=text/html:Join us for live entertainment with Lisa Mills and Don Wessels. Upbeat and fun\, this duo is the perfect pairing for dinner and drinks at the waterfront. Free and open to the public. We can&rsquo\;t wait to see you!
LOCATION:The Nonantum Resort 95 Ocean Avenue Kennebunkport\, ME 04046
UID:e.1923.19265
SEQUENCE:3
DTSTAMP:20260422T034244Z
URL:https://chamber.gokennebunks.com/events/details/live-at-the-nonantum-with-lisa-mills-don-wessels-08-15-2023-19265
END:VEVENT

END:VCALENDAR
