BEGIN:VCALENDAR
VERSION:2.0
PRODID:-//ChamberMaster//Event Calendar 2.0//EN
METHOD:PUBLISH
X-PUBLISHED-TTL:P3D
REFRESH-INTERVAL:P3D
CALSCALE:GREGORIAN
BEGIN:VEVENT
DTSTART:20230713T203000Z
DTEND:20230713T233000Z
X-MICROSOFT-CDO-ALLDAYEVENT:FALSE
SUMMARY:Live at the Nonantum with KT McCammond
DESCRIPTION:KT McCammond offers her fun tunes and bright personality to enhance your dining experience. Enjoy a fun evening overlooking the water while you listen to great music and have exceptional food and drinks!
X-ALT-DESC;FMTTYPE=text/html:KT McCammond offers her fun tunes and bright personality to enhance your dining experience. Enjoy a fun evening overlooking the water while you listen to great music and have exceptional food and drinks!
LOCATION:The Nonantum Resort 95 Ocean Avenue Kennebunkport\, ME 04046
UID:e.1923.19249
SEQUENCE:3
DTSTAMP:20260422T050631Z
URL:https://chamber.gokennebunks.com/events/details/live-at-the-nonantum-with-kt-mccammond-07-13-2023-19249
END:VEVENT

END:VCALENDAR
