BEGIN:VCALENDAR
VERSION:2.0
PRODID:-//ChamberMaster//Event Calendar 2.0//EN
METHOD:PUBLISH
X-PUBLISHED-TTL:P3D
REFRESH-INTERVAL:P3D
CALSCALE:GREGORIAN
BEGIN:VEVENT
DTSTART:20241213T233000Z
DTEND:20241214T013000Z
X-MICROSOFT-CDO-ALLDAYEVENT:FALSE
SUMMARY:Little Elves Hip Hop Workshop - PARENTS' NIGHT OUT!
DESCRIPTION:Enjoy some free time enjoying the festivities in and around town while your little one enjoys a hip hop dance workshop and craft activity. No previous dance skills required   all are welcome. Students need to pre-register to reserve a spot.\n\n - Ages 6 - 10\n\n - Max # of attendees: 14\n\n - $40 per student for 2 hour workshop (6:30pm-8:30pm)
X-ALT-DESC;FMTTYPE=text/html:<span style="color:rgb(68\, 68\, 68)\; font-family:helvetica neue\,helvetica\,arial\,sans-serif\; font-size:16px">Enjoy some free time enjoying the festivities in and around town while your little one enjoys a hip hop dance workshop and craft activity. No previous dance skills required &ndash\; all are welcome. Students need to pre-register to reserve a spot.<br />\n&nbsp\;- Ages 6 - 10<br />\n&nbsp\;- Max # of attendees: 14<br />\n&nbsp\;-&nbsp\;$40 per student for 2 hour workshop (6:30pm-8:30pm)</span>
LOCATION:River Tree Arts 35 Western Ave.\, Kennebunk\, ME 04043
UID:e.1923.31150
SEQUENCE:3
DTSTAMP:20260421T032806Z
URL:https://chamber.gokennebunks.com/events/details/little-elves-hip-hop-workshop-parents-night-out-31150
END:VEVENT

END:VCALENDAR
