BEGIN:VCALENDAR
VERSION:2.0
PRODID:-//ChamberMaster//Event Calendar 2.0//EN
METHOD:PUBLISH
X-PUBLISHED-TTL:P3D
REFRESH-INTERVAL:P3D
CALSCALE:GREGORIAN
BEGIN:VEVENT
DTSTART:20240807T220000Z
DTEND:20240807T230000Z
X-MICROSOFT-CDO-ALLDAYEVENT:FALSE
SUMMARY:LISA MILLS\, JIM O'NEIL\, BYON YEATTS CONCERT
DESCRIPTION:Wednesday\, August 7 at 6 PM. Lisa Mills\, Jim O'Neil\, and Byon Yeatts Concert. Join us for some good vibes and live music in the garden at Graves Library Music Series. Bring your friends\, bring your chair\, sit back\, tap your feet\, and listen to some local beat. Lisa Mills\, Jim O'Neil\, and Byon Yeatts sing 3-part harmonies of hits from the '60s through the turn of the century\, plus a few 21st-century songs now qualifying as oldies. You'll enjoy bluesy originals to cookin' covers from Sinatra to Sting\, Jobin to Adele\, and Muddy to Drake. Let's celebrate our community and our fondness for talented artists right in our own backyard! A suggested donation of $10 per person would be appreciated. This event will be held in the community room if it rains. Parking is available on Maine Street or at Consolidated School. The Louis T. Graves Memorial Public Library is located at 18 Maine Street\, Kennebunkport. For further information\, please call 967-2778 or visit our website at www.graveslibrary.org.
X-ALT-DESC;FMTTYPE=text/html:<span style="font-family:arial\,sans-serif">Wednesday\, August 7 at 6 PM. <strong>Lisa Mills\, Jim O&rsquo\;Neil\, and Byon Yeatts Concert</strong>. Join us for some good vibes and live music in the garden at Graves Library Music Series. Bring your friends\, bring your chair\, sit back\, tap your feet\, and listen to some local beat. Lisa Mills\, Jim O&rsquo\;Neil\, and Byon Yeatts sing 3-part harmonies of hits from the &lsquo\;60s through the turn of the century\, plus a few 21st-century songs now qualifying as oldies. You&rsquo\;ll enjoy bluesy originals to cookin&rsquo\; covers from Sinatra to Sting\, Jobin to Adele\, and Muddy to Drake. Let&rsquo\;s celebrate our community and our fondness for talented artists right in our own backyard! A suggested donation of $10 per person would be appreciated. This event will be held in the community room if it rains. Parking is available on Maine Street or at Consolidated School. The Louis T. Graves Memorial Public Library is located at 18 Maine Street\, Kennebunkport. For further information\, please call 967-2778 or visit our website at </span><a href="http://www.graveslibrary.org/"><span style="color:windowtext"><span style="font-family:arial\,sans-serif">www.graveslibrary.org</span></span></a><span style="font-family:arial\,sans-serif">.</span>
LOCATION:The Louis T. Graves Memorial Public Library is located at 18 Maine Street\, Kennebunkport. For further information\, please call 967-2778 or visit our website at www.graveslibrary.org.
UID:e.1923.25411
SEQUENCE:3
DTSTAMP:20260421T124537Z
URL:https://chamber.gokennebunks.com/events/details/lisa-mills-jim-o-neil-byon-yeatts-concert-08-07-2024-25411
END:VEVENT

END:VCALENDAR
