BEGIN:VCALENDAR
VERSION:2.0
PRODID:-//ChamberMaster//Event Calendar 2.0//EN
METHOD:PUBLISH
X-PUBLISHED-TTL:P3D
REFRESH-INTERVAL:P3D
CALSCALE:GREGORIAN
BEGIN:VEVENT
DTSTART:20240904T220000Z
DTEND:20240904T230000Z
X-MICROSOFT-CDO-ALLDAYEVENT:FALSE
SUMMARY:LISA MILLS & DON WESSELS CONCERT
DESCRIPTION:Wednesday\, September 4 at 6 PM. Lisa Mills and Don Wessels Concert. Join us for some good vibes and live music in the garden at Graves Library Music Series. Bring your friends\, bring your chair\, sit back\, tap your feet\, and listen to some local beat. Lisa Mills and Don Wessels will wow us with duets. Let's celebrate our community and our fondness for talented artists right in our own backyard! A suggested donation of $10 per person would be appreciated. This event will be held in the community room if it rains. Parking is available on Maine Street or at Consolidated School. The Louis T. Graves Memorial Public Library is located at 18 Maine Street\, Kennebunkport. For further information\, please call 967-2778 or visit www.graveslibrary.org.
X-ALT-DESC;FMTTYPE=text/html:<span style="font-family:arial\,sans-serif">Wednesday\, September 4 at 6 PM. <strong>Lisa Mills and Don Wessels Concert</strong>. Join us for some good vibes and live music in the garden at Graves Library Music Series. Bring your friends\, bring your chair\, sit back\, tap your feet\, and listen to some local beat. Lisa Mills and Don Wessels will wow us with duets. Let&rsquo\;s celebrate our community and our fondness for talented artists right in our own backyard! A suggested donation of $10 per person would be appreciated. This event will be held in the community room if it rains. Parking is available on Maine Street or at Consolidated School. </span><span style="font-family:arial\,sans-serif">The Louis T. Graves Memorial Public Library is located at 18 Maine Street\, Kennebunkport. For further information\, please call 967-2778 or visit </span><a href="http://www.graveslibrary.org/"><span style="color:windowtext"><span style="font-family:arial\,sans-serif">www.graveslibrary.org</span></span></a><span style="font-family:arial\,sans-serif">.</span>
LOCATION:The Louis T. Graves Memorial Public Library is located at 18 Maine Street\, Kennebunkport. For further information\, please call 967-2778 or visit www.graveslibrary.org.
UID:e.1923.29876
SEQUENCE:3
DTSTAMP:20260421T100041Z
URL:https://chamber.gokennebunks.com/events/details/lisa-mills-don-wessels-concert-29876
END:VEVENT

END:VCALENDAR
