BEGIN:VCALENDAR
VERSION:2.0
PRODID:-//ChamberMaster//Event Calendar 2.0//EN
METHOD:PUBLISH
X-PUBLISHED-TTL:P3D
REFRESH-INTERVAL:P3D
CALSCALE:GREGORIAN
BEGIN:VEVENT
DTSTART:20250716T220000Z
DTEND:20250716T230000Z
X-MICROSOFT-CDO-ALLDAYEVENT:FALSE
SUMMARY:LISA MILLS & DON WESSELS CONCERT
DESCRIPTION:Wednesday\, July 16 at 6 PM. Lisa Mills and Don Wessels Concert. Join us for some good vibes and live music in the garden at Graves Library Music Series. Bring your friends\, bring your chair\, sit back\, tap your feet\, and listen to some local beat. Lisa Mills and Don Wessels will wow us with duets. Celebrate our community and our fondness for talented artists right in our backyard! A suggested donation of $10 per person would be appreciated. This event will be held in the community room in the event of rain. Parking is available on Maine Street or at the Village Fire Station on North Street. The Louis T. Graves Memorial Public Library is located at 18 Maine Street\, Kennebunkport. For further information\, please call 207-967-2778 or visit www.graveslibrary.org.
X-ALT-DESC;FMTTYPE=text/html:<span style="font-family:arial\,sans-serif">Wednesday\, July 16 at 6 PM. <strong>Lisa Mills and Don Wessels Concert.</strong> Join us for some good vibes and live music in the garden at Graves Library Music Series. Bring your friends\, bring your chair\, sit back\, tap your feet\, and listen to some local beat. Lisa Mills and Don Wessels will wow us with duets. Celebrate our community and our fondness for talented artists right in our backyard! A suggested donation of $10 per person would be appreciated. This event will be held in the community room in the event of rain. Parking is available on Maine Street or at the Village Fire Station on North Street. The Louis T. Graves Memorial Public Library is located at 18 Maine Street\, Kennebunkport. For further information\, please call 207-967-2778 or visit www.graveslibrary.org.</span>
LOCATION:The Louis T. Graves Memorial Public Library is located at 18 Maine Street\, Kennebunkport. For further information\, please call 207-967-2778 or visit www.graveslibrary.org.
UID:e.1923.37533
SEQUENCE:3
DTSTAMP:20260421T073922Z
URL:https://chamber.gokennebunks.com/events/details/lisa-mills-don-wessels-concert-07-16-2025-37533
END:VEVENT

END:VCALENDAR
