BEGIN:VCALENDAR
VERSION:2.0
PRODID:-//ChamberMaster//Event Calendar 2.0//EN
METHOD:PUBLISH
X-PUBLISHED-TTL:P3D
REFRESH-INTERVAL:P3D
CALSCALE:GREGORIAN
BEGIN:VEVENT
DTSTART:20190726T000000Z
DTEND:20190726T023000Z
X-MICROSOFT-CDO-ALLDAYEVENT:FALSE
SUMMARY:Linda Eder
DESCRIPTION:Our season would not be complete without Linda Eder on the schedule! Showcasing one of the greatest voices of our time\, Linda Eder's diverse repertoire spans Broadway\, Standards\, Pop\, Country\, and Jazz. She made her Broadway debut in the musical Jekyll & Hyde\, originating the role of Lucy\, for which she was nominated for the Drama Desk Award. Eder has performed in concert halls across the country including Carnegie Hall and Radio City Musical Hall. She has released 15 solo albums and continues to delight international audiences.
X-ALT-DESC;FMTTYPE=text/html:Our season would not be complete without Linda Eder on the schedule! Showcasing one of the greatest voices of our time\, Linda Eder&rsquo\;s diverse repertoire spans Broadway\, Standards\, Pop\, Country\, and Jazz. She made her Broadway debut in the musical Jekyll &amp\; Hyde\, originating the role of Lucy\, for which she was nominated for the Drama Desk Award. Eder has performed in concert halls across the country including Carnegie Hall and Radio City Musical Hall. She has released 15 solo albums and continues to delight international audiences.
LOCATION:Vinegar Hill Music Theatre 53 Old Post Rd Arundel\, ME 04046
UID:e.1923.11545
SEQUENCE:3
DTSTAMP:20260424T183018Z
URL:https://chamber.gokennebunks.com/events/details/linda-eder-07-25-2019-11545
END:VEVENT

END:VCALENDAR
