BEGIN:VCALENDAR
VERSION:2.0
PRODID:-//ChamberMaster//Event Calendar 2.0//EN
METHOD:PUBLISH
X-PUBLISHED-TTL:P3D
REFRESH-INTERVAL:P3D
CALSCALE:GREGORIAN
BEGIN:VEVENT
DTSTART:20240109T220000Z
DTEND:20240109T233000Z
X-MICROSOFT-CDO-ALLDAYEVENT:FALSE
SUMMARY:LIBRARY ASSOCIATION ANNUAL MEETING
DESCRIPTION:Tuesday\, January 9 at 5 PM. Library Association Annual Meeting. Please join us for the Annual Meeting of the Louis T. Graves Memorial Public Library Association. You will hear reports from the President\, Library Director\, Nominating Chair\, and Treasurer. New Board members will be voted in\, and reception with light refreshments immediately following. The Library is located at 18 Maine Street\, Kennebunkport. For further information\, please call 967-2778 or visit our website at www.graveslibrary.org.
X-ALT-DESC;FMTTYPE=text/html:<span style="font-family:arial\,sans-serif">Tuesday\, January 9 at 5 PM. <strong>Library Association Annual Meeting</strong>. Please join us for the Annual Meeting of the Louis T. Graves Memorial Public Library Association. You will hear reports from the President\, Library Director\, Nominating Chair\, and Treasurer. New Board members will be voted in\, and reception with light refreshments immediately following. The Library is located at 18 Maine Street\, Kennebunkport. For further information\, please call 967-2778 or visit our website at www.graveslibrary.org.</span>
LOCATION:The Library is located at 18 Maine Street\, Kennebunkport. For further information\, please call 967-2778 or visit our website at www.graveslibrary.org.
UID:e.1923.23331
SEQUENCE:3
DTSTAMP:20260421T204805Z
URL:https://chamber.gokennebunks.com/events/details/library-association-annual-meeting-01-09-2024-23331
END:VEVENT

END:VCALENDAR
