BEGIN:VCALENDAR
VERSION:2.0
PRODID:-//ChamberMaster//Event Calendar 2.0//EN
METHOD:PUBLISH
X-PUBLISHED-TTL:P3D
REFRESH-INTERVAL:P3D
CALSCALE:GREGORIAN
BEGIN:VEVENT
DTSTART:20250418T200000Z
DTEND:20250418T220000Z
X-MICROSOFT-CDO-ALLDAYEVENT:FALSE
SUMMARY:Libations Craft Beer and Wine - Free Tasting Friday!
DESCRIPTION:Stop by Libations Craft Beer and Wine for a complimentary tasting featuring a curated selection of hand-picked wines and refreshing Apr s Maine Seltzers.\n\nLocation: 169 Port Rd\, Kennebunk (Next to A Joyful Noise Daycare)\n\nTime: 4:00 PM   6:00 PM\n\nDate: Friday April 18th \n\nExplore new flavors in a relaxed\, welcoming setting perfect for wine lovers\, seltzer fans\, or anyone curious to try something new!
X-ALT-DESC;FMTTYPE=text/html:<p>Stop by <strong>Libations Craft Beer and Wine</strong> for a complimentary tasting featuring a curated selection of hand-picked wines and refreshing Apr&egrave\;s Maine Seltzers.</p>\n\n<p><strong>Location:</strong><span style="background-color:rgb(255\, 255\, 255)\; color:rgb(51\, 51\, 51)\; font-family:sans-serif\,arial\,verdana\,trebuchet ms\; font-size:13px">&nbsp\;169 Port Rd\, Kennebunk (Next to A Joyful Noise Daycare)</span></p>\n\n<p><strong>Time:</strong> 4:00 PM &ndash\; 6:00 PM<br />\n<strong>Date:</strong>&nbsp\;Friday April 18th&nbsp\;</p>\n\n<p>Explore new flavors in a relaxed\, welcoming setting&mdash\;perfect for wine lovers\, seltzer fans\, or anyone curious to try something new!</p>\n
LOCATION:Location: 169 Port Rd\, Kennebunk (Next to A Joyful Noise Daycare)
UID:e.1923.33981
SEQUENCE:3
DTSTAMP:20260421T032456Z
URL:https://chamber.gokennebunks.com/events/details/libations-craft-beer-and-wine-free-tasting-friday-33981
END:VEVENT

END:VCALENDAR
