BEGIN:VCALENDAR
VERSION:2.0
PRODID:-//ChamberMaster//Event Calendar 2.0//EN
METHOD:PUBLISH
X-PUBLISHED-TTL:P3D
REFRESH-INTERVAL:P3D
CALSCALE:GREGORIAN
BEGIN:VEVENT
DTSTART:20250425T200000Z
DTEND:20250425T220000Z
X-MICROSOFT-CDO-ALLDAYEVENT:FALSE
SUMMARY:Libations Craft Beer and Wine - Free Bissell Brothers Beer Tasting!
DESCRIPTION:Beer Tasting with Bissell Brothers at Libations Craft Beer and Wine\n\nJoin us at Libations Craft Beer and Wine on Friday\, April 25 for a free tasting event featuring selections from one of Maine's most beloved breweries Bissell Brothers.\n\nLocation: 169 Port Rd\, Kennebunk (Next to A Joyful Noise Daycare)\n\n\n\nDate: Friday April 25th\n\nTime: 4:00 PM   6:00 PM\n\n \n\nCome explore bold\, flavorful craft beers and enjoy the relaxed\, welcoming atmosphere at Libations. Whether you're a longtime fan of Bissell Brothers or just curious to try something new\, this is the perfect chance to sample some of Maine's finest.
X-ALT-DESC;FMTTYPE=text/html:<h3><strong>Beer Tasting with Bissell Brothers at Libations Craft Beer and Wine</strong></h3>\n\n<p>Join us at <strong>Libations Craft Beer and Wine</strong> on <strong>Friday\, April 25</strong> for a <strong>free tasting event</strong> featuring selections from one of Maine&rsquo\;s most beloved breweries&mdash\;<strong>Bissell Brothers</strong>.</p>\n\n<p><strong>Location:</strong> 169 Port Rd\, Kennebunk (Next to A Joyful Noise Daycare)<br />\n<br />\n<strong>Date: Friday April 25th<br />\nTime:</strong> 4:00 PM &ndash\; 6:00 PM</p>\n\n<p>&nbsp\;</p>\n\n<p>Come explore bold\, flavorful craft beers and enjoy the relaxed\, welcoming atmosphere at Libations. Whether you&#39\;re a longtime fan of Bissell Brothers or just curious to try something new\, this is the perfect chance to sample some of Maine&rsquo\;s finest.</p>\n
LOCATION:Location: 169 Port Rd\, Kennebunk (Next to A Joyful Noise Daycare)
UID:e.1923.33982
SEQUENCE:3
DTSTAMP:20260421T032942Z
URL:https://chamber.gokennebunks.com/events/details/libations-craft-beer-and-wine-free-bissell-brothers-beer-tasting-33982
END:VEVENT

END:VCALENDAR
