BEGIN:VCALENDAR
VERSION:2.0
PRODID:-//ChamberMaster//Event Calendar 2.0//EN
METHOD:PUBLISH
X-PUBLISHED-TTL:P3D
REFRESH-INTERVAL:P3D
CALSCALE:GREGORIAN
BEGIN:VEVENT
DTSTART;VALUE=DATE:20230807
DTEND;VALUE=DATE:20230812
TRANSP:TRANSPARENT
X-MICROSOFT-CDO-ALLDAYEVENT:TRUE
SUMMARY:Lemonade! A Musical for Young Singers
DESCRIPTION:Ages 5 to 7\n\n1 Week Session\n\n$425\n\nAUG 07 to AUG 11\n\nMON THRU FRI\, 9:00A - 2:00P\n\nJoin in the fairytale frenzy when Chicken Little\, the Three Little Pigs\, Humpty Dumpty\, the Cat with a fiddle\, Little Bo Peep\, Little Boy Blue and a host of other characters are having a BAD DAY! With the help of a cheerful Mother Goose\, discover how they learn to make the best out of life's ups and downs. This clever musical features original songs like A Change of Heart\, Get Your Lemonade\, Recipe for Joy\, and other fun songs by John Higgins and John Jacobson.
X-ALT-DESC;FMTTYPE=text/html:<p>Ages 5 to 7<br />\n1 Week Session<br />\n$425</p>\n\n<p>AUG 07 to AUG 11<br />\nMON THRU FRI\, 9:00A - 2:00P</p>\n\n<p>Join in the fairytale frenzy when Chicken Little\, the Three Little Pigs\, Humpty Dumpty\, the Cat with a fiddle\, Little Bo Peep\, Little Boy Blue and a host of other characters are having a BAD DAY! With the help of a cheerful Mother Goose\, discover how they learn to make the best out of life&#39\;s ups and downs. This clever musical features original songs like A Change of Heart\, Get Your Lemonade\, Recipe for Joy\, and other fun songs by John Higgins and John Jacobson.</p>\n
LOCATION:Ogunquit Playhouse
UID:e.1923.18517
SEQUENCE:3
DTSTAMP:20260422T033728Z
URL:https://chamber.gokennebunks.com/events/details/lemonade-a-musical-for-young-singers-18517
END:VEVENT

END:VCALENDAR
