BEGIN:VCALENDAR
VERSION:2.0
PRODID:-//ChamberMaster//Event Calendar 2.0//EN
METHOD:PUBLISH
X-PUBLISHED-TTL:P3D
REFRESH-INTERVAL:P3D
CALSCALE:GREGORIAN
BEGIN:VEVENT
DTSTART:20230926T191500Z
DTEND:20230926T200000Z
X-MICROSOFT-CDO-ALLDAYEVENT:FALSE
SUMMARY:LEGO MADNESS
DESCRIPTION:Tuesday\, September 26 from 3:15 to 4:00 PM. Lego Madness! Imagine\, create\, build! Bring your imagination for an hour of fun. Unstructured build time followed by a group building challenge and game. This program is for elementary-aged students. Space is limited and pre-registration is required. The Louis T. Graves Memorial Public Library is located at 18 Maine Street\, Kennebunkport. For further information\, please call 967-2778 or visit our website at www.graveslibrary.org.
X-ALT-DESC;FMTTYPE=text/html:Tuesday\, September 26 from 3:15 to 4:00 PM. Lego Madness! Imagine\, create\, build! Bring your imagination for an hour of fun. Unstructured build time followed by a group building challenge and game. This program is for elementary-aged students. Space is limited and pre-registration is required. The Louis T. Graves Memorial Public Library is located at 18 Maine Street\, Kennebunkport. For further information\, please call 967-2778 or visit our website at www.graveslibrary.org.
LOCATION:Louis T. Graves Memorial Public Library is located at 18 Maine Street\, Kennebunkport.
UID:e.1923.22458
SEQUENCE:3
DTSTAMP:20260422T020922Z
URL:https://chamber.gokennebunks.com/events/details/lego-madness-22458
END:VEVENT

END:VCALENDAR
