BEGIN:VCALENDAR
VERSION:2.0
PRODID:-//ChamberMaster//Event Calendar 2.0//EN
METHOD:PUBLISH
X-PUBLISHED-TTL:P3D
REFRESH-INTERVAL:P3D
CALSCALE:GREGORIAN
BEGIN:VEVENT
DTSTART:20230523T190000Z
DTEND:20230523T200000Z
X-MICROSOFT-CDO-ALLDAYEVENT:FALSE
SUMMARY:LEGO CLUB
DESCRIPTION:Lego Madness! Imagine\, create\, build! Bring your imagination for an hour of fun. Unstructured build time followed by a group building challenge and game. This program is for elementary-aged students. Pre-registration is required at 967-2778. For further information\, please call 967-2778 or visit our website at www.graveslibrary.org.
X-ALT-DESC;FMTTYPE=text/html:Lego Madness! Imagine\, create\, build! Bring your imagination for an hour of fun. Unstructured build time followed by a group building challenge and game. This program is for elementary-aged students. Pre-registration is required at 967-2778. For further information\, please call 967-2778 or visit our website at www.graveslibrary.org.
LOCATION:The Louis T. Graves Memorial Public Library is located at 18 Maine Street\, Kennebunkport.
UID:e.1923.19139
SEQUENCE:3
DTSTAMP:20260424T101450Z
URL:https://chamber.gokennebunks.com/events/details/lego-club-05-23-2023-19139
END:VEVENT

END:VCALENDAR
