BEGIN:VCALENDAR
VERSION:2.0
PRODID:-//ChamberMaster//Event Calendar 2.0//EN
METHOD:PUBLISH
X-PUBLISHED-TTL:P3D
REFRESH-INTERVAL:P3D
CALSCALE:GREGORIAN
BEGIN:VEVENT
DTSTART:20180804T000000Z
DTEND:20180804T020000Z
X-MICROSOFT-CDO-ALLDAYEVENT:FALSE
SUMMARY:Legends of Boston
DESCRIPTION:Prepare for an incredible evening of music and instrumental greatness with Legends of Boston\, Johnny A.\, Magic Dick and Shun Ng. Each of the three performers will shine in this unique performance. Playing separately and together\, music lovers will delight in the sheer musical talent on stage this evening.
X-ALT-DESC;FMTTYPE=text/html:Prepare for an incredible evening of music and instrumental greatness with Legends of Boston\, Johnny A.\, Magic Dick and Shun Ng. Each of the three performers will shine in this unique performance. Playing separately and together\, music lovers will delight in the sheer musical talent on stage this evening.
LOCATION:Vinegar Hill Music Theatre 53 Old Post Rd. Arundel\, ME 04046
UID:e.1923.7174
SEQUENCE:3
DTSTAMP:20260425T120224Z
URL:https://chamber.gokennebunks.com/events/details/legends-of-boston-7174
END:VEVENT

END:VCALENDAR
