BEGIN:VCALENDAR
VERSION:2.0
PRODID:-//ChamberMaster//Event Calendar 2.0//EN
METHOD:PUBLISH
X-PUBLISHED-TTL:P3D
REFRESH-INTERVAL:P3D
CALSCALE:GREGORIAN
BEGIN:VEVENT
DTSTART:20240920T130000Z
DTEND:20240921T200000Z
X-MICROSOFT-CDO-ALLDAYEVENT:FALSE
SUMMARY:Legacy Collage Workshop with Berri Kramer at Arundel Farm Gallery
DESCRIPTION:Learn the limitless and exciting medium of collage while preserving cherished memories from past and present.  This workshop is a way to honor memories of loved ones and special times shared with friends and family by turning photos and other memorabilia into beautiful contemporary pieces of art that you can appreciate every day.  This is NOT scrapbooking but rather a 2-Day artistic journey using personal imagery with various collage techniques to create several works of art.  A finishing process will be included in the class\, and you will walk away with at least one 10"x10" collage ready to frame and display.  A $40.00 materials fee will provide all you need to create your projects.  See the complete class description on our website. \n\n\n\nBerri Kramer worked in the design department for Better Homes and Gardens for 25 years before she founded Heartwood College of Art where she taught color\, design and fine crafts.
X-ALT-DESC;FMTTYPE=text/html:Learn the limitless and exciting medium of collage while preserving cherished memories from past and present.&nbsp\; This workshop is a way to honor memories of loved ones and special times shared with friends and family by turning photos and other memorabilia into beautiful contemporary pieces of art that you can appreciate every day.&nbsp\; This is NOT scrapbooking but rather a 2-Day artistic journey using personal imagery with various collage techniques to create several works of art.&nbsp\; A finishing process will be included in the class\, and you will walk away with at least one 10&quot\;x10&quot\; collage ready to frame and display.&nbsp\; A $40.00 materials fee will provide all you need to create your projects.&nbsp\; See the complete class description on our website.&nbsp\;<br />\n<br />\nBerri Kramer worked in the design department for Better Homes and Gardens for 25 years before she founded Heartwood College of Art where she taught color\, design and fine crafts.&nbsp\;&nbsp\;
LOCATION:Arundel Farm Gallery\, 76 Arundel Road\, Arundel\, Maine 04046
UID:e.1923.25269
SEQUENCE:3
DTSTAMP:20260421T100055Z
URL:https://chamber.gokennebunks.com/events/details/legacy-collage-workshop-with-berri-kramer-at-arundel-farm-gallery-25269
END:VEVENT

END:VCALENDAR
