BEGIN:VCALENDAR
VERSION:2.0
PRODID:-//ChamberMaster//Event Calendar 2.0//EN
METHOD:PUBLISH
X-PUBLISHED-TTL:P3D
REFRESH-INTERVAL:P3D
CALSCALE:GREGORIAN
BEGIN:VEVENT
DTSTART:20240624T130000Z
DTEND:20240628T160000Z
X-MICROSOFT-CDO-ALLDAYEVENT:FALSE
SUMMARY:LEARN TO DRAW LIVE ANIMALS AT AWS!
DESCRIPTION:9:00AM-12:00PM\n\nMONDAY-FRIDAY\, JUNE 24-28 (5 days)\n\nGrades 6+\n\nInstructor: Piper Castles\nIn this camp\, we will focus on core skills of drawing while observing shelter animals. Students will build their drawing skill set from the ground up\, starting with line of action\, building up shapes\, learning to check for accuracy by measuring\, adding value and details. Drawing skills are the basis for all art and learning to draw from life can be challenging but so much fun too! Join us in supporting the shelter with this popular camp.\n\nMax attendees: 10
X-ALT-DESC;FMTTYPE=text/html:9:00AM-12:00PM<br />\nMONDAY-FRIDAY\, JUNE 24-28 (5 days)<br />\nGrades 6+<br />\nInstructor: Piper Castles\n<p>In this camp\, we will focus on core skills of drawing while observing shelter animals. Students will build their drawing skill set from the ground up\, starting with line of action\, building up shapes\, learning to check for accuracy by measuring\, adding value and details. Drawing skills are the basis for all art and learning to draw from life can be challenging but so much fun too! Join us in supporting the shelter with this popular camp.</p>\n\n<p>Max attendees: 10</p>\n
LOCATION:Animal Welfare Society\, 46 Holland Rd\, Kennebunk\, ME 04043. The workshop will be held in the Boston House building at AWS.
UID:e.1923.24512
SEQUENCE:3
DTSTAMP:20260421T140109Z
URL:https://chamber.gokennebunks.com/events/details/learn-to-draw-live-animals-at-aws-24512
END:VEVENT

END:VCALENDAR
