BEGIN:VCALENDAR
VERSION:2.0
PRODID:-//ChamberMaster//Event Calendar 2.0//EN
METHOD:PUBLISH
X-PUBLISHED-TTL:P3D
REFRESH-INTERVAL:P3D
CALSCALE:GREGORIAN
BEGIN:VEVENT
DTSTART:20200229T120000Z
DTEND:20200229T130000Z
X-MICROSOFT-CDO-ALLDAYEVENT:FALSE
SUMMARY:Leap day
DESCRIPTION:it only comes around once every four year so grab your 80s headbands + join us for a heart-pumping good time. we'll jam out to old school tunes (yes\, think your (or your aunt gertrude's) fav step aerobics tunes. class is 60 minutes but we'll be switching it up + adding cardio sprints throughout class.
X-ALT-DESC;FMTTYPE=text/html:it only comes around once every four year so grab your 80s headbands + join us for a heart-pumping good time. we&#39\;ll jam out to old school tunes (yes\, think your (or your aunt gertrude&#39\;s) fav step aerobics tunes. class is 60 minutes but we&#39\;ll be switching it up + adding cardio sprints throughout class.
LOCATION:The Daily Sweat 65 Portland RD Building A\, Unit D\, Kennebunk\, ME 04043
UID:e.1923.15616
SEQUENCE:3
DTSTAMP:20260422T124046Z
URL:https://chamber.gokennebunks.com/events/details/leap-day-15616
END:VEVENT

END:VCALENDAR
