BEGIN:VCALENDAR
VERSION:2.0
PRODID:-//ChamberMaster//Event Calendar 2.0//EN
METHOD:PUBLISH
X-PUBLISHED-TTL:P3D
REFRESH-INTERVAL:P3D
CALSCALE:GREGORIAN
BEGIN:VEVENT
DTSTART:20220616T213000Z
DTEND:20220616T223000Z
X-MICROSOFT-CDO-ALLDAYEVENT:FALSE
SUMMARY:LAUNCH! Sea Love + Maine & Vine Tasting and Making Experience
DESCRIPTION:Celebrate LAUNCH! at the 2nd annual Sea Love + Maine & Vine Tasting and Making Experience\, a fundraising event for the Maine Lobstermen's Association. Bring a bestie and enjoy an evening of making your own scented candle at Sea Love and tasting a delicious variety of nautical themed wines with Lani Dietz\, owner of Maine & Vine. \n\n\n\nPre registration is required at $60 per person. Book your seats for 5:30 or 7 P.M.
X-ALT-DESC;FMTTYPE=text/html:Celebrate LAUNCH! at the 2nd annual&nbsp\;Sea Love + Maine &amp\; Vine Tasting and Making Experience\, a fundraising event for the Maine Lobstermen&#39\;s Association. Bring a bestie and enjoy an&nbsp\;evening of making your own scented candle at Sea Love and tasting a delicious variety of nautical themed wines with Lani Dietz\, owner of Maine &amp\; Vine.&nbsp\;<br />\n<br />\nPre registration is required at $60 per person. Book your seats for 5:30 or 7 P.M.&nbsp\;
LOCATION:Sea Love 2 Ocean Avenue\, Kennebunkport
UID:e.1923.17477
SEQUENCE:3
DTSTAMP:20260419T162306Z
URL:https://chamber.gokennebunks.com/events/details/launch-sea-love-maine-vine-tasting-and-making-experience-17477
END:VEVENT

END:VCALENDAR
