BEGIN:VCALENDAR
VERSION:2.0
PRODID:-//ChamberMaster//Event Calendar 2.0//EN
METHOD:PUBLISH
X-PUBLISHED-TTL:P3D
REFRESH-INTERVAL:P3D
CALSCALE:GREGORIAN
BEGIN:VEVENT
DTSTART:20190615T000000Z
DTEND:20190615T030000Z
X-MICROSOFT-CDO-ALLDAYEVENT:FALSE
SUMMARY:LAUNCH! Pirate Pub Crawl
DESCRIPTION:Ahoy! Calling all matey's for the Pirate Pub Crawl taking place in Lower Village Kennebunk and Kennebunkport. Join our pirate crew in visiting rogue establishments over an evening.
X-ALT-DESC;FMTTYPE=text/html:Ahoy! Calling all matey&#39\;s for the Pirate Pub Crawl taking place in Lower Village Kennebunk and Kennebunkport. Join our pirate crew in visiting rogue establishments over an evening.
LOCATION:The crawl will begin at The Spirit Restaurant\, other locations to be announced in the upcoming weeks.
UID:e.1923.13104
SEQUENCE:3
DTSTAMP:20260424T194325Z
URL:https://chamber.gokennebunks.com/events/details/launch-pirate-pub-crawl-13104
END:VEVENT

END:VCALENDAR
