BEGIN:VCALENDAR
VERSION:2.0
PRODID:-//ChamberMaster//Event Calendar 2.0//EN
METHOD:PUBLISH
X-PUBLISHED-TTL:P3D
REFRESH-INTERVAL:P3D
CALSCALE:GREGORIAN
BEGIN:VEVENT
DTSTART:20190615T180000Z
DTEND:20190615T210000Z
X-MICROSOFT-CDO-ALLDAYEVENT:FALSE
SUMMARY:Launch! Garden Party
DESCRIPTION:
X-ALT-DESC;FMTTYPE=text/html:
LOCATION:The gardens at the Captain Jefferds\, Captain Lord Mansion & Maine Stay Inn
UID:e.1923.13106
SEQUENCE:3
DTSTAMP:20260424T194234Z
URL:https://chamber.gokennebunks.com/events/details/launch-garden-party-13106
END:VEVENT

END:VCALENDAR
