BEGIN:VCALENDAR
VERSION:2.0
PRODID:-//ChamberMaster//Event Calendar 2.0//EN
METHOD:PUBLISH
X-PUBLISHED-TTL:P3D
REFRESH-INTERVAL:P3D
CALSCALE:GREGORIAN
BEGIN:VEVENT
DTSTART:20190614T210000Z
DTEND:20190614T233000Z
X-MICROSOFT-CDO-ALLDAYEVENT:FALSE
SUMMARY:LAUNCH! Castaway Cove for Kids
DESCRIPTION:It's all hands on deck for this family friendly fest\, feast and fun! Who doesn't love bouncy houses\, face painting\, sea creature touch tanks and more?!?
X-ALT-DESC;FMTTYPE=text/html:It&#39\;s all hands on deck for this family friendly fest\, feast and fun! Who doesn&#39\;t love bouncy houses\, face painting\, sea creature touch tanks and more?!?
LOCATION:Waterhouse Center in downtown Kennebunk
UID:e.1923.13101
SEQUENCE:3
DTSTAMP:20260424T194406Z
URL:https://chamber.gokennebunks.com/events/details/launch-castaway-cove-for-kids-13101
END:VEVENT

END:VCALENDAR
