BEGIN:VCALENDAR
VERSION:2.0
PRODID:-//ChamberMaster//Event Calendar 2.0//EN
METHOD:PUBLISH
X-PUBLISHED-TTL:P3D
REFRESH-INTERVAL:P3D
CALSCALE:GREGORIAN
BEGIN:VEVENT
DTSTART:20230909T140000Z
DTEND:20230909T200000Z
X-MICROSOFT-CDO-ALLDAYEVENT:FALSE
SUMMARY:Laudholm Nature Crafts Festival
DESCRIPTION:The Laudholm Nature Crafts Festival is a juried event highlighting many of New England's most skilled creative people. It attracts thousands of visitors who appreciate fine works. Music and food round out the festival\, which is a major fundraiser for Laudholm Trust\, the nonprofit that supports the Wells National Estuarine Research Reserve.
X-ALT-DESC;FMTTYPE=text/html:<p>The Laudholm Nature Crafts Festival is a juried event highlighting many of New England&#39\;s most skilled creative people. It attracts thousands of visitors who appreciate fine works. Music and food round out the festival\, which is a major fundraiser for Laudholm Trust\, the nonprofit that supports the Wells National Estuarine Research Reserve.</p>\n\n<ul>\n</ul>\n
LOCATION:
UID:e.1923.22467
SEQUENCE:3
DTSTAMP:20260422T034114Z
URL:https://chamber.gokennebunks.com/events/details/laudholm-nature-crafts-festival-22467
END:VEVENT

END:VCALENDAR
