BEGIN:VCALENDAR
VERSION:2.0
PRODID:-//ChamberMaster//Event Calendar 2.0//EN
METHOD:PUBLISH
X-PUBLISHED-TTL:P3D
REFRESH-INTERVAL:P3D
CALSCALE:GREGORIAN
BEGIN:VEVENT
DTSTART:20230527T210000Z
DTEND:20230528T000000Z
X-MICROSOFT-CDO-ALLDAYEVENT:FALSE
SUMMARY:KW Contemporary Art Summertide Soiree
DESCRIPTION:Summertide\n\nThird Annual Summer Soiree\n\nSaturday\, May 27th\n\n5 - 8 pm\n\n184 Port Rd\, Kennebunk\, ME\n\n\n\nKW Contemporary Art invites you to our annual summer soir e and opening reception for Summertide.  This group exhibition features new work from gallery artists\, highlighting the unique voice and exciting perspective of KW Contemporary Art.\n\n\n\n Join us for cocktails and hors d'oeuvres as we celebrate the start of summer!\n\n\n\nTo preview the exhibition visit www.kwcontemporaryart.com
X-ALT-DESC;FMTTYPE=text/html:<div style="text-align: center\;"><span style="font-family:tahoma"><span style="font-size:28px"><big>Summertide</big></span><br />\n<span style="font-size:18px"><em>Third Annual Summer Soiree</em></span><br />\n<span style="font-size:16px">Saturday\, May 27th<br />\n5 - 8 pm<br />\n184 Port Rd\, Kennebunk\, ME</span><br />\n<br />\n<span style="font-size:14px">KW Contemporary Art invites you to our annual summer soir&eacute\;e and opening reception for Summertide.&nbsp\; This group exhibition features new work from gallery artists\, highlighting the unique voice and exciting perspective of KW Contemporary Art.<br />\n<br />\n&nbsp\;Join us for cocktails and hors d&#39\;oeuvres as we&nbsp\;celebrate the start of summer!</span><br />\n<br />\nTo preview the exhibition visit www.kwcontemporaryart.com</span></div>\n
LOCATION:184 Port Rd\, Kennebunk\, ME 04043
UID:e.1923.19030
SEQUENCE:3
DTSTAMP:20260424T084635Z
URL:https://chamber.gokennebunks.com/events/details/kw-contemporary-art-summertide-soiree-19030
END:VEVENT

END:VCALENDAR
