BEGIN:VCALENDAR
VERSION:2.0
PRODID:-//ChamberMaster//Event Calendar 2.0//EN
METHOD:PUBLISH
X-PUBLISHED-TTL:P3D
REFRESH-INTERVAL:P3D
CALSCALE:GREGORIAN
BEGIN:VEVENT
DTSTART:20231202T200000Z
DTEND:20231202T230000Z
X-MICROSOFT-CDO-ALLDAYEVENT:FALSE
SUMMARY:KW Contemporary Art Annual Holiday Open House & All That Glitters Party
DESCRIPTION:KW Contemporary Art invites you to join us for our annual Holiday Open House & All That Glitters Party.  We will be opening our holiday group exhibition featuring works from gallery artists using or inspired by the glittering\, sparkling holiday season. Come see new works from Hunt Slonem\, Betsy Enzensberger\, Christine Tonolini\, Topher Straus\, Jeremy Houghton\, and many more. \n\n\n\nCome enjoy festive treats\, appetizers\, holiday cocktails\, and more with us as we celebrate the start Prelude and the holiday season here in the Kennebunks!\n\n\n\nThis event is free and open to all. \n\n\n\nYou can find the gallery in Lower Village above Spaces and Bliss
X-ALT-DESC;FMTTYPE=text/html:<h2 style="font-style: italic\; text-align: center\;"><font color="#000000" face="verdana\, sans-serif"><span style="font-size:14px"><strong><cite><var>KW Contemporary Art invites you to join us for our annual Holiday Open House &amp\; All That Glitters Party.&nbsp\; We will be opening our holiday group exhibition featuring works from gallery artists using or inspired by the glittering\, sparkling holiday season. Come see new works from Hunt Slonem\, Betsy Enzensberger\, Christine Tonolini\, Topher Straus\, Jeremy Houghton\, and many more.&nbsp\;<br />\n<br />\nCome enjoy festive treats\, appetizers\, holiday cocktails\, and more with us as we celebrate the start Prelude and the holiday season here in the Kennebunks!</var></cite></strong></span></font></h2>\n\n<div style="text-align: center\;"><br />\n<font color="#000000" face="verdana\, sans-serif"><span style="font-size:14px"><u><strong>This event is free and open to all.&nbsp\;<br />\n<br />\nYou can find the gallery in Lower Village above Spaces and Bliss</strong></u></span></font></div>\n
LOCATION:184 Port Rd\, Kennebunk\, ME 04043 Lower Village
UID:e.1923.23138
SEQUENCE:3
DTSTAMP:20260421T233321Z
URL:https://chamber.gokennebunks.com/events/details/kw-contemporary-art-annual-holiday-open-house-all-that-glitters-party-23138
END:VEVENT

END:VCALENDAR
