BEGIN:VCALENDAR
VERSION:2.0
PRODID:-//ChamberMaster//Event Calendar 2.0//EN
METHOD:PUBLISH
X-PUBLISHED-TTL:P3D
REFRESH-INTERVAL:P3D
CALSCALE:GREGORIAN
BEGIN:VEVENT
DTSTART:20231201T150000Z
DTEND:20231201T210000Z
X-MICROSOFT-CDO-ALLDAYEVENT:FALSE
SUMMARY:KNIT HAPPENS by Kathy Craft Fair
DESCRIPTION:KNIT HAPPENS by Kathy is  back this year with those fun\, funky hats that showed  up on heads all over the Kennebunks.  New custom holiday designs available including the Grinch Collection\, Louie the Lobster\, Tree Hats and more.
X-ALT-DESC;FMTTYPE=text/html:<span style="color:rgb(48\, 48\, 48)\; font-family:georgia pro\,georgia\,droid serif\,serif\; font-size:18px">KNIT HAPPENS by Kathy is &nbsp\;back this year with&nbsp\;those fun\, funky hats </span><span style="color:rgb(48\, 48\, 48)\; font-family:georgia pro\,georgia\,droid serif\,serif\; font-size:18px">that showed &nbsp\;up on heads all over the Kennebunks. &nbsp\;New custom holiday designs available including the Grinch Collection\, Louie the Lobster\, Tree Hats and more. &nbsp\;</span>
LOCATION:Kennebunkport Historical Society 8 Maine St Kennebunkport\, ME
UID:e.1923.23105
SEQUENCE:3
DTSTAMP:20260421T221235Z
URL:https://chamber.gokennebunks.com/events/details/knit-happens-by-kathy-craft-fair-23105
END:VEVENT

END:VCALENDAR
