BEGIN:VCALENDAR
VERSION:2.0
PRODID:-//ChamberMaster//Event Calendar 2.0//EN
METHOD:PUBLISH
X-PUBLISHED-TTL:P3D
REFRESH-INTERVAL:P3D
CALSCALE:GREGORIAN
BEGIN:VEVENT
DTSTART:20230805T130000Z
DTEND:20230805T160000Z
X-MICROSOFT-CDO-ALLDAYEVENT:FALSE
SUMMARY:Knit Happens by Kathy at Cape Porpoise Library
DESCRIPTION:Knit Happens by Kathy is at it again. Here are some of the products we will be featuring on Saturday\, August 5th at the Cape Porpoise Library from 9am - Noon.\n\nMany of our Prelude Hats will be on display for pre-ordering.\n\n \n\nIn the Fall\, many of our Prelude Hats will be available for purchase at local retailers such as Kennebunk Outfitters\, The Center\, This Is It and\, On the Main (Ogunquit).\n\n \n\nAll our products are made in Kennebunk including our latest product\, the Lobster Buoy Earrings\, which are made of wood and are hand painted. They can be purchased at PJ's Unique Peek and Three Sea's Fish & Lobster.
X-ALT-DESC;FMTTYPE=text/html:<span style="color:#050505"><span style="font-family:inherit\,serif"><span style="font-size:11.5pt"><a href="https://www.facebook.com/tobin0457?__cft__%5b0%5d=AZUKYinyAzmNwepatdzRt3xlwQGcJvSOx9H_MW2Fif5otgM4mbbo6Lbt4GhJ4CJFU-XvM2E5uEUsk9XBgJCvXHq2-eiyKygPGHv93k9d13wJM-8xZTI8PXwcodLb7hWV85St7HUCjsJrigvAjd36l0hQ&amp\;__tn__=-%5dK-R"><span style="color:blue">Knit Happens by Kathy</span></a>&nbsp\;is at it again. Here are some of the products we will be featuring on Saturday\, August 5th at the Cape Porpoise Library from 9am - Noon.</span></span></span><br />\n<span style="color:#050505"><span style="font-family:inherit\,serif"><span style="font-size:11.5pt">Many of our Prelude Hats will be on display for pre-ordering.</span></span></span><br />\n&nbsp\;<br />\n<span style="color:#050505"><span style="font-family:inherit\,serif"><span style="font-size:11.5pt">In the Fall\, many of our Prelude Hats will be available for purchase at local retailers such as Kennebunk Outfitters\, The Center\, This Is It and\, On the Main (Ogunquit).</span></span></span><br />\n&nbsp\;<br />\n<span style="color:#050505"><span style="font-family:inherit\,serif"><span style="font-size:11.5pt">All our products are made in Kennebunk including our latest product\, the Lobster Buoy Earrings\, which are made of wood and are hand painted. They can be purchased at PJ&rsquo\;s Unique Peek and Three Sea&rsquo\;s Fish &amp\; Lobster.</span></span></span>
LOCATION:
UID:e.1923.22417
SEQUENCE:3
DTSTAMP:20260422T034134Z
URL:https://chamber.gokennebunks.com/events/details/knit-happens-by-kathy-at-cape-porpoise-library-22417
END:VEVENT

END:VCALENDAR
