BEGIN:VCALENDAR
VERSION:2.0
PRODID:-//ChamberMaster//Event Calendar 2.0//EN
METHOD:PUBLISH
X-PUBLISHED-TTL:P3D
REFRESH-INTERVAL:P3D
CALSCALE:GREGORIAN
BEGIN:VEVENT
DTSTART:20250611T120000Z
DTEND:20250611T130000Z
X-MICROSOFT-CDO-ALLDAYEVENT:FALSE
SUMMARY:KKA Chamber Workshop: Maximizing your Chamber Membership
DESCRIPTION:We are excited to host the Maximizing your Chamber Membership workshop on Wednesday\, June 11 at 8 am! \n\n\n\nAre you curious to learn more about the KKA Chamber and the different membership resources available? \n\n\n\nChamber membership manager Kristin Nagy will lead the workshop and will guide you on how to leverage these resources for your business. \n\n\n\nIt will be held in person at our office - 16 Water Street\, Kennebunk. We hope to see you there! \n\n\n\nWant to learn more about membership? Click here!
X-ALT-DESC;FMTTYPE=text/html:<p><br />\n<span style="font-size:18px\;"><span style="font-size:20px\;"><strong>We are excited to host the Maximizing your Chamber Membership&nbsp\;workshop on Wednesday\, June 11 at 8 am!&nbsp\;</strong></span></span><br />\n<br />\n<span style="font-size:18px\;"><span style="color: rgb(34\, 34\, 34)\; font-family: Arial\, Helvetica\, sans-serif\; background-color: rgb(255\, 255\, 255)\;">Are you curious to learn more about the KKA Chamber and the different membership resources available?&nbsp\;<br />\n<br />\nChamber membership manager Kristin Nagy will lead the workshop and will guide you on how to leverage these resources for your business.&nbsp\;<br />\n<br />\nIt will be held in person at our office - 16 Water Street\, Kennebunk. We hope to see you there!&nbsp\;</span><br />\n<br />\nWant to learn more about membership? Click&nbsp\;<a href="https://gokennebunks.com/members/"><span style="color: rgb(0\, 0\, 255)\;">here</span></a>!</span></p>\n
LOCATION:16 Water Street\, Kennebunk
UID:e.1923.34924
SEQUENCE:3
DTSTAMP:20260421T062159Z
URL:https://chamber.gokennebunks.com/events/details/kka-chamber-workshop-maximizing-your-chamber-membership-34924
END:VEVENT

END:VCALENDAR
